BEGIN:VCALENDAR
VERSION:2.0
PRODID:-//BRP - ECPv6.15.20//NONSGML v1.0//EN
CALSCALE:GREGORIAN
METHOD:PUBLISH
X-WR-CALNAME:BRP
X-ORIGINAL-URL:https://brpsa.com
X-WR-CALDESC:Events for BRP
REFRESH-INTERVAL;VALUE=DURATION:PT1H
X-Robots-Tag:noindex
X-PUBLISHED-TTL:PT1H
BEGIN:VTIMEZONE
TZID:Europe/Zurich
BEGIN:DAYLIGHT
TZOFFSETFROM:+0100
TZOFFSETTO:+0200
TZNAME:CEST
DTSTART:20230326T010000
END:DAYLIGHT
BEGIN:STANDARD
TZOFFSETFROM:+0200
TZOFFSETTO:+0100
TZNAME:CET
DTSTART:20231029T010000
END:STANDARD
BEGIN:DAYLIGHT
TZOFFSETFROM:+0100
TZOFFSETTO:+0200
TZNAME:CEST
DTSTART:20240331T010000
END:DAYLIGHT
BEGIN:STANDARD
TZOFFSETFROM:+0200
TZOFFSETTO:+0100
TZNAME:CET
DTSTART:20241027T010000
END:STANDARD
BEGIN:DAYLIGHT
TZOFFSETFROM:+0100
TZOFFSETTO:+0200
TZNAME:CEST
DTSTART:20250330T010000
END:DAYLIGHT
BEGIN:STANDARD
TZOFFSETFROM:+0200
TZOFFSETTO:+0100
TZNAME:CET
DTSTART:20251026T010000
END:STANDARD
END:VTIMEZONE
BEGIN:VEVENT
DTSTART;TZID=Europe/Zurich:20240507T103000
DTEND;TZID=Europe/Zurich:20240507T120000
DTSTAMP:20260425T175940
CREATED:20240416T131650Z
LAST-MODIFIED:20240430T141540Z
UID:10000128-1715077800-1715083200@brpsa.com
SUMMARY:Zusammenarbeit mit Drittparteien
DESCRIPTION:Zusammenarbeit mit Drittparteien\nWebinar auf Deutsch \nSAQ Anerkennung der Rezertifizierung \n \n\nCross-border Risiken und Massnahmen zur Risikominderung bei der Zusammenarbeit von Finanzintermediären mit Drittparteien\n  \n\nDie Schulung richtet sich an\n\n\n\n\n\n\nInstitution\n☒ Banken \n☒ Wertpapierfirmen \n☒ Vermögensverwalter \n☒ Treuhänder \n☐ Verwalter von Kollektivvermögen \n☐ Fondsleitungen \n☒ Kundenberater \n☐ Sonstige Finanzintermediäre \n\n\n\n\n\nFunktion\n☒ Recht und Compliance\n☒ Risikomanagement\n☒ Interne Revision\n☐ Zentraldatei\n☒ Front\n☒ Asset Management\n☐ HR\n☐ Marketing\n☒ Verwaltungsrat\n☐ Sonstiges \n\n\n\n\n\n\nInhalt\n\n\n\n\n\n\n> Einleitung \n\nDefinition und Zweck\nTypische Ausgestaltungen von Zusammenarbeit mit Drittparteien\n\n\n\n\n\n\n\n> Einsatz von Drittparteien \n\nBedingungen für die Zusammenarbeit\nKooperationsvereinbarungen\n\n\n\n\n\n\n\n> Cross-border-Risiken \n\nRegulatorische\, steuerliche\, finanziellle\, zivilrechtliche\, Reputations- und andere Risiken\n\n\n\n\n\n\n\n> Massnahmen zur Risikominderung \n\nCura in eligendo\, contraendo et custodiendo\nKnow-how und Ausbildung\nUnabhängigkeit der Drittparteien\nTätigkeitsbereich\nExklusivitätsvereinbarungen\nVergütungsformen\, Interessenkonflikte etc.\n\n\n\n\n\n\n\n> Gebundene Vermittler (Tied Agents) \n\n\n\n\n\n  \nFür weitere Informationen zu diesem Webinar kontaktieren Sie uns bitte .
URL:https://brpsa.com/events/zusammenarbeit-mit-drittparteien-2/
LOCATION:Online
CATEGORIES:Webinar
ATTACH;FMTTYPE=image/jpeg:https://brpsa.com/wp-content/uploads/2024/04/2024.05.07_Zusammenarbeit-mit-Drittparteien-scaled.jpg
ORGANIZER;CN="Annette Hafner":MAILTO:anh@brpsa.com
END:VEVENT
END:VCALENDAR